BEGIN:VCALENDAR
VERSION:2.0
PRODID:-//Cap Luberon - ECPv6.9.0//NONSGML v1.0//EN
CALSCALE:GREGORIAN
METHOD:PUBLISH
X-ORIGINAL-URL:https://www.cap-luberon.fr
X-WR-CALDESC:Évènements pour Cap Luberon
REFRESH-INTERVAL;VALUE=DURATION:PT1H
X-Robots-Tag:noindex
X-PUBLISHED-TTL:PT1H
BEGIN:VTIMEZONE
TZID:Europe/Paris
BEGIN:DAYLIGHT
TZOFFSETFROM:+0100
TZOFFSETTO:+0200
TZNAME:CEST
DTSTART:20250330T010000
END:DAYLIGHT
BEGIN:STANDARD
TZOFFSETFROM:+0200
TZOFFSETTO:+0100
TZNAME:CET
DTSTART:20251026T010000
END:STANDARD
END:VTIMEZONE
BEGIN:VEVENT
DTSTART;TZID=Europe/Paris:20250306T180000
DTEND;TZID=Europe/Paris:20250306T210000
DTSTAMP:20260419T201156
CREATED:20250210T093453Z
LAST-MODIFIED:20250221T101539Z
UID:4942-1741284000-1741294800@www.cap-luberon.fr
SUMMARY:Afterwork des cheffes d’entreprise – 5ème édition
DESCRIPTION:Afterwork des cheffes d’entreprise le jeudi 06 mars dès 18h\, au Chateau de Mille ! \nDans un monde où l’entrepreneuriat est en plein essor\, les femmes prennent de plus en plus leur place en tant que leaders et innovatrices. Pour célébrer leur succès et leur résilience\, un événement spécial est mis en place chaque année pour mettre en lumière le talent et l’ingéniosité des femmes entrepreneuses. Depuis quatre ans\, à l’occasion de la journée internationale des droits des femmes\, nous mettons à l’honneur les femmes dirigeantes du Pays d’Apt Luberon.\n\nUn rendez-vous annuel qui accueille chaque année plus de 50 cheffes d’entreprise lors d’un afterwork convivial.\n\nPour cette cinquième édition\, Cap Luberon\, l’ANPEP\, Initiative Terres de Vaucluse\, l’Office de Tourisme Intercommunal et Wiz Apt\, réitèrent l’événement le jeudi 14 mars dès 18h.\nUn afterwork où le réseau et le partage d’expérience sont à l’honneur. Afin de continuer à resserrer les liens entre les dirigeantes du territoire.\n\nAu programme cette année\, une soirée qui s’articule autour de l’engagement pour une économie locale et durable :\n\n\nAccueil\nIntervention de l’Office de Tourisme\, un acteur clé au service des habitants et des entreprises\nTémoignage de Wizapt\, une plateforme locale qui facilite la mise en relation et la visibilité des entreprises du territoire\nUn atelier ludique pour élargir votre cercle professionnel\nApéritif convivial\n\n\nRencontrez d’autres femmes inspirantes\, échangez des idées et créez des opportunités de collaboration dans une ambiance détendue et conviviale.\n\nInscription via le formulaire suivant \nhttps://forms.office.com/e/8vMfByp24P
URL:https://www.cap-luberon.fr/evenement/afterwork-des-cheffes-dentreprise-5eme-edition/
LOCATION:Chateau de Mille\, Route de Bonnieux\, Apt\, 84400\, France
CATEGORIES:Afterwork,Évènements
ATTACH;FMTTYPE=image/png:https://www.cap-luberon.fr/wp-content/uploads/2025/02/v1-Affiche-5eme-edition-Afterwork-Cheffes-dEntreprises.png
ORGANIZER;CN="Cap Luberon":MAILTO:capluberon@paysapt-luberon.fr
END:VEVENT
END:VCALENDAR