BEGIN:VCALENDAR
VERSION:2.0
PRODID:-//Cap Luberon - ECPv6.9.0//NONSGML v1.0//EN
CALSCALE:GREGORIAN
METHOD:PUBLISH
X-ORIGINAL-URL:https://www.cap-luberon.fr
X-WR-CALDESC:Évènements pour Cap Luberon
REFRESH-INTERVAL;VALUE=DURATION:PT1H
X-Robots-Tag:noindex
X-PUBLISHED-TTL:PT1H
BEGIN:VTIMEZONE
TZID:Europe/Paris
BEGIN:DAYLIGHT
TZOFFSETFROM:+0100
TZOFFSETTO:+0200
TZNAME:CEST
DTSTART:20240331T010000
END:DAYLIGHT
BEGIN:STANDARD
TZOFFSETFROM:+0200
TZOFFSETTO:+0100
TZNAME:CET
DTSTART:20241027T010000
END:STANDARD
END:VTIMEZONE
BEGIN:VEVENT
DTSTART;TZID=Europe/Paris:20241119T090000
DTEND;TZID=Europe/Paris:20241119T110000
DTSTAMP:20260420T020546
CREATED:20241112T135304Z
LAST-MODIFIED:20241112T135304Z
UID:4903-1732006800-1732014000@www.cap-luberon.fr
SUMMARY:CAFE’CAP – Entreprendre autrement avec l'Economie Sociale et Solidaire (ESS)
DESCRIPTION:À l’occasion du lancement de la 17ᵉ édition du mois de l’Economie Sociale et Solidaire (ESS) Cap Luberon organise un Café Cap. Rendez-vous le mardi 19 novembre de 9h à 11h\, pour échanger autour de l’entrepreneuriat dans l’ESS !\n\n\n« L’ESS\, c’est entreprendre autrement\, pour demain ! » : Ce Café Cap vous permettra de découvrir comment l’économie sociale et solidaire peut-être une réelle opportunité pour vos projets d’entreprise\, tout en échangeant autour d’un café convivial.\n\n\n\n Au programme :\n\nIntervention de la Chambre régionale de l’économie sociale et solidaire (CRESS) : Explorez les dynamiques actuelles de l’ESS dans notre région.\nPrésentation de l’EBE Zou Vaï : Découvrez un modèle d’entreprise basé sur l’inclusion sociale et solidaire.\nPrésentation de TERRA SUD : Explorez les initiatives locales liées au développement durable et à l’économie circulaire.\nTémoignages d’entrepreneurs : Écoutez les retours d’expérience de ceux qui ont choisi d’entreprendre autrement dans l’ESS.\n\n\n\nCet événement gratuit vous offrira des clés pour intégrer les valeurs de l’Economie Sociale et Solidaire (ESS) dans vos projets\, tout en échangeant autour d’un café convivial. \n\n\n\n 𝐋𝐢𝐞𝐮 : Cap Luberon\, 472 Traverse de Roumanille\, Apt\, France\n 𝐃𝐚𝐭𝐞 : 19 novembre 2024\, de 9h à 11h\n 𝐈𝐧𝐬𝐜𝐫𝐢𝐩𝐭𝐢𝐨𝐧𝐬 : https://forms.office.com/Pages/ResponsePage.aspx…\n\n\n\nCélébrons ensemble cette 17è édition du mois de l’ESS et profitons de ce moment pour réfléchir aux nouvelles façons d’entreprendre sur notre territoire !
URL:https://www.cap-luberon.fr/evenement/cafecap-entreprendre-autrement-avec-leconomie-sociale-et-solidaire-ess/
LOCATION:Cap Luberon\, 472 Traverse de Roumanille\, Apt\, 84400\, France
CATEGORIES:Conférence,Évènements
ATTACH;FMTTYPE=image/jpeg:https://www.cap-luberon.fr/wp-content/uploads/2024/11/465696922_1085499540245506_1357579215559360918_n.jpg
END:VEVENT
BEGIN:VEVENT
DTSTART;TZID=Europe/Paris:20241121T183000
DTEND;TZID=Europe/Paris:20241121T203000
DTSTAMP:20260420T020546
CREATED:20241023T101522Z
LAST-MODIFIED:20241023T101522Z
UID:4820-1732213800-1732221000@www.cap-luberon.fr
SUMMARY:Afterwork avec le Réseau Entreprendre
DESCRIPTION:Cap Luberon organise un Afterwork avec le Réseau Entreprendre : Comment valoriser et préparer la transmission de votre entreprise ? \nVous envisagez une croissance externe ou de céder votre société ? Venez découvrir les meilleures pratiques pour anticiper et réussir cette transition lors d’un Afterwork organisé par le Réseau Entreprendre Rhône-Durance. \nQu’il s’agisse d’une volonté de croissance externe ou d’un souhait de transmission de son patrimoine\, la valorisation est un sujet complexe aux multiples facettes. Réussir sa transmission d’entreprise nécessite un projet structuré et réfléchi. Vous vous demandez comment préparer la transmission de votre entreprise ? Comment bien la valoriser ? Lors de cet événement\, 𝐏𝐡𝐢𝐥𝐢𝐩𝐩𝐞 𝐌𝐎𝐎𝐍𝐄𝐘\, expert en cession d’entreprises du cabinet 𝐌𝐢𝐜𝐡𝐞𝐥 𝐒𝐈𝐌𝐎𝐍𝐃\, vous guidera à travers toutes les étapes cruciales pour faire de votre projet un succès. \n𝐀𝐮 𝐩𝐫𝐨𝐠𝐫𝐚𝐦𝐦𝐞 :\n• Comment anticiper et préparer la transmission ?\n• Quelles sont les ressources à ma disposition ?\n• Comment réaliser le diagnostic de l’entreprise et définir le périmètre de cession ?\n• Comment valoriser mon entreprise ?\n• Quelle fiscalité de cession ?\n• Quels sont les principaux pièges à éviter ? \n𝐓𝐞́𝐦𝐨𝐢𝐠𝐧𝐚𝐠𝐞 𝐞𝐱𝐜𝐥𝐮𝐬𝐢𝐟 : 𝐄𝐭𝐢𝐞𝐧𝐧𝐞 𝐃𝐞 𝐂𝐡𝐞𝐳𝐞𝐥𝐥𝐞𝐬\, directeur de Verre et Transparence\, partagera son expérience de croissance et d’acquisition d’entreprise.\nEn présence d’experts et dans une atmosphère conviviale\, découvrez les clés pour réussir votre projet de cession et éviter les embûches dans ce parcours enrichissant ! \nInscription gratuite\, ne tardez pas à réserver votre place !\n𝐈𝐧𝐬𝐜𝐫𝐢𝐯𝐞𝐳-𝐯𝐨𝐮𝐬 𝐢𝐜𝐢 : https://forms.office.com/e/KvNW8ZiPM8
URL:https://www.cap-luberon.fr/evenement/afterwork-avec-le-reseau-entreprendre/
LOCATION:Cap Luberon\, 472 Traverse de Roumanille\, Apt\, 84400\, France
CATEGORIES:Afterwork,Évènements
ATTACH;FMTTYPE=image/png:https://www.cap-luberon.fr/wp-content/uploads/2024/10/Affiche_afterwork_reseau_entreprendre.png
ORGANIZER;CN="Cap Luberon":MAILTO:capluberon@paysapt-luberon.fr
END:VEVENT
END:VCALENDAR