BEGIN:VCALENDAR
VERSION:2.0
PRODID:-//Cap Luberon - ECPv6.9.0//NONSGML v1.0//EN
CALSCALE:GREGORIAN
METHOD:PUBLISH
X-WR-CALNAME:Cap Luberon
X-ORIGINAL-URL:https://www.cap-luberon.fr
X-WR-CALDESC:Évènements pour Cap Luberon
REFRESH-INTERVAL;VALUE=DURATION:PT1H
X-Robots-Tag:noindex
X-PUBLISHED-TTL:PT1H
BEGIN:VTIMEZONE
TZID:Europe/Paris
BEGIN:DAYLIGHT
TZOFFSETFROM:+0100
TZOFFSETTO:+0200
TZNAME:CEST
DTSTART:20240331T010000
END:DAYLIGHT
BEGIN:STANDARD
TZOFFSETFROM:+0200
TZOFFSETTO:+0100
TZNAME:CET
DTSTART:20241027T010000
END:STANDARD
END:VTIMEZONE
BEGIN:VEVENT
DTSTART;TZID=Europe/Paris:20241003T090000
DTEND;TZID=Europe/Paris:20241003T200000
DTSTAMP:20260420T031728
CREATED:20240918T093309Z
LAST-MODIFIED:20240918T093309Z
UID:4806-1727946000-1727985600@www.cap-luberon.fr
SUMMARY:Découvrez notre espace de coworking : Journée découverte & Afterwork
DESCRIPTION:Venez explorer\, travailler et vous détendre dans un cadre inspirant ! \nVous cherchez un lieu inspirant pour travailler et développer vos projets ? 🧑‍💻👩‍💻\nNous avons ce qu’il vous faut ! \n📅 Quand ? Jeudi 03 octobre \nCoworking gratuit:  dès 9h\nAfterwork : 17h à 19h \n📍 Où ?\nNotre espace de coworking Cap Luberon\, situé au 472 Traverse de Roumanille à Apt dans la zone industrielle des Bourguignons\, est desservi par le bus Mobily. Un endroit convivial et stimulant\, idéal pour rencontrer d’autres professionnels\, échanger des idées et explorer de nouvelles opportunités. \nAu programme : \n\nVisite guidée de notre espace moderne et équipé\nSession de coworking gratuite pour découvrir nos installations\nRencontre avec notre communauté : freelance\, entrepreneurs et startups\nAfterwork networking : autour de boissons et snacks\, parfait pour échanger dans une ambiance détendue\n\nPourquoi participer ? \n\nTravaillez dans un cadre agréable et inspirant\nRencontrez d’autres professionnels et élargissez votre réseau\nTestez gratuitement notre espace et voyez si c’est le bon environnement pour vous\nProfitez d’une soirée afterwork pour créer des opportunités et discuter avec des esprits créatifs\n\nInscription gratuite mais places limitées !\n👉 Réservez vite votre place ici
URL:https://www.cap-luberon.fr/evenement/decouvrez-notre-espace-de-coworking-journee-decouverte-afterwork/
LOCATION:Cap Luberon\, 472 Traverse de Roumanille\, Apt\, 84400\, France
CATEGORIES:Afterwork,Coworking,Évènements,Journée portes ouvertes
ATTACH;FMTTYPE=image/png:https://www.cap-luberon.fr/wp-content/uploads/2024/09/decouverte_coworking_0310.png
ORGANIZER;CN="Cap Luberon":MAILTO:capluberon@paysapt-luberon.fr
END:VEVENT
BEGIN:VEVENT
DTSTART;TZID=Europe/Paris:20241015T093000
DTEND;TZID=Europe/Paris:20241015T103000
DTSTAMP:20260420T031728
CREATED:20240930T075522Z
LAST-MODIFIED:20240930T075522Z
UID:4811-1728984600-1728988200@www.cap-luberon.fr
SUMMARY:CAFE'CAP – Innovation et accès marché
DESCRIPTION:Innovation et accès marché : en partenariat avec AVEQ \, Pierre Méry sera présent à Cap Luberon le mardi 15 octobre à 9h30 pour un Café Cap : 1 thématique\, sur 1 heure autour d’1 café (ou deux) et de viennoiseries. \nComment valider l’accès marché lorsqu’on lance un nouveau produit ou service ? \n« Ça va marcher\, c’est sûr ! » ou « ça n’a jamais été fait donc c’est une bonne idée ». Autant de phrases que l’on entend souvent. Les choses ne sont pas si simples lorsque l’on choisit de créer son entreprise ou de lancer un nouveau produit. \n\nLors de cet atelier\, Pierre vous guidera pour essayer de démystifier l’innovation et vous donner les clés pour être acteur de votre étude du marché.\n\n\nTémoignages et retour d’expérience de la startup WizApt sur l’appréhension de son marché.\n\nA.V.EQ est une entreprise implantée dans le PNR du Luberon spécialisée dans l’accompagnement de projets et entreprises sur les thématiques Innovation et accès marché\, Modèle Économique et Transition Écologique.\n\n\nInscription  https://forms.gle/SQm39UPC7PE4y8Mn7
URL:https://www.cap-luberon.fr/evenement/innovation-et-acces-marche/
LOCATION:Cap Luberon\, 472 Traverse de Roumanille\, Apt\, 84400\, France
CATEGORIES:Ateliers,Conférence,Évènements
ATTACH;FMTTYPE=image/png:https://www.cap-luberon.fr/wp-content/uploads/2024/09/CAFE-CAP-AVECQ.png
ORGANIZER;CN="Cap Luberon":MAILTO:capluberon@paysapt-luberon.fr
END:VEVENT
END:VCALENDAR