BEGIN:VCALENDAR
VERSION:2.0
PRODID:-//Cap Luberon - ECPv6.9.0//NONSGML v1.0//EN
CALSCALE:GREGORIAN
METHOD:PUBLISH
X-ORIGINAL-URL:https://www.cap-luberon.fr
X-WR-CALDESC:Évènements pour Cap Luberon
REFRESH-INTERVAL;VALUE=DURATION:PT1H
X-Robots-Tag:noindex
X-PUBLISHED-TTL:PT1H
BEGIN:VTIMEZONE
TZID:Europe/Paris
BEGIN:DAYLIGHT
TZOFFSETFROM:+0100
TZOFFSETTO:+0200
TZNAME:CEST
DTSTART:20230326T010000
END:DAYLIGHT
BEGIN:STANDARD
TZOFFSETFROM:+0200
TZOFFSETTO:+0100
TZNAME:CET
DTSTART:20231029T010000
END:STANDARD
END:VTIMEZONE
BEGIN:VEVENT
DTSTART;TZID=Europe/Paris:20230309T180000
DTEND;TZID=Europe/Paris:20230309T200000
DTSTAMP:20260423T081035
CREATED:20230215T104802Z
LAST-MODIFIED:20230215T104802Z
UID:4408-1678384800-1678392000@www.cap-luberon.fr
SUMMARY:3ème édition - Afterwork des cheffes d'entreprise
DESCRIPTION:Afterwork des cheffes d’entreprise le jeudi 09 mars dès 18h à Cap Luberon ! \nDepuis deux ans\, à l’occasion de la journée internationale des droits des femmes\, nous mettons à l’honneur les femmes dirigeantes du Pays d’Apt Luberon. Un rendez-vous annuel qui accueille chaque année plus de 30 cheffes d’entreprise lors d’un afterwork convivial.\n\nPour cette troisième édition\, Cap Luberon\, l’ANPEP et Initiative Terres de Vaucluse\, réitèrent l’événement le Jeudi 09 mars dès 18h dans les locaux du Cap Luberon.\nUn afterwork où le réseau et le partage d’expérience seront à l’honneur dans les locaux du Cap Luberon. Afin de continuer à resserrer les liens entre les dirigeantes du territoire\, ce qui nous apparaît être un enjeu majeur\, en particulier en cette période de crise sociale et économique.\n\nAu programme cette année\, une soirée qui s’articule autour de la transition écologique des entreprises :\n\n\nAccueil\nTémoignages\nAteliers ludiques\nApéritif convivial\n\n\nNous vous attendons nombreuses\, pour partager\, ensemble\, cet événement.\n\nInscription via le formulaire suivant \nhttps://forms.gle/Biuzmr1q7L2kYLsD6\n  \n  \n 
URL:https://www.cap-luberon.fr/evenement/3eme-edition-afterwork-des-cheffes-dentreprise/
LOCATION:Cap Luberon\, 472 Traverse de Roumanille\, Apt\, 84400\, France
CATEGORIES:Afterwork,Évènements
ATTACH;FMTTYPE=image/jpeg:https://www.cap-luberon.fr/wp-content/uploads/2023/02/Afterwork-des-cheffes-dentreprises.jpg
END:VEVENT
END:VCALENDAR