BEGIN:VCALENDAR
VERSION:2.0
PRODID:-//Cap Luberon - ECPv6.9.0//NONSGML v1.0//EN
CALSCALE:GREGORIAN
METHOD:PUBLISH
X-WR-CALNAME:Cap Luberon
X-ORIGINAL-URL:https://www.cap-luberon.fr
X-WR-CALDESC:Évènements pour Cap Luberon
REFRESH-INTERVAL;VALUE=DURATION:PT1H
X-Robots-Tag:noindex
X-PUBLISHED-TTL:PT1H
BEGIN:VTIMEZONE
TZID:Europe/Paris
BEGIN:DAYLIGHT
TZOFFSETFROM:+0100
TZOFFSETTO:+0200
TZNAME:CEST
DTSTART:20260329T010000
END:DAYLIGHT
BEGIN:STANDARD
TZOFFSETFROM:+0200
TZOFFSETTO:+0100
TZNAME:CET
DTSTART:20261025T010000
END:STANDARD
END:VTIMEZONE
BEGIN:VEVENT
DTSTART;TZID=Europe/Paris:20260605T130000
DTEND;TZID=Europe/Paris:20260605T170000
DTSTAMP:20260419T175858
CREATED:20260216T101945Z
LAST-MODIFIED:20260216T104923Z
UID:5158-1780664400-1780678800@www.cap-luberon.fr
SUMMARY:Challenge Inter-entreprises – 5ème édition
DESCRIPTION:Challenge Inter-entreprises : une 5ᵉ édition sous le signe du défi\, de la cohésion et de l’aventure collective \nDevenu un rendez-vous incontournable du territoire\, cet événement rassemble chaque année entreprises autour d’une même ambition : créer du lien\, renforcer la cohésion et valoriser l’esprit d’équipe à travers le sport\, le jeu et le dépassement de soi. \n\nLe Challenge Inter-entreprises a été imaginé avec comme objectifs :\nFavoriser les rencontres entre entreprises locales\nCréer des liens durables entre dirigeants\, salariés et indépendants\nRenforcer la cohésion interne au sein des équipes\nValoriser le dynamisme économique local dans un cadre convivial\n\nAu-delà de la compétition\, c’est avant tout une aventure humaine\, collective et fédératrice\, où l’esprit d’équipe prime sur la performance individuelle. \n🏛️ Une 5ᵉ édition au thème mythique \nPour cette nouvelle édition\, les participants plongeront dans un univers inspiré des grandes épreuves légendaires imaginé par l’entreprise PEGASE PAINTBALL. \nComment participer ? \n\nÉquipes composées de 8 personnes et 2 remplacants autorisés\nParité femmes-hommes fortement encouragée\n👉 Une bonification de points sera accordée aux équipes paritaires\n\nLe format est pensé pour être accessible à tous\, quel que soit l’âge\, le niveau sportif ou le poste occupé dans l’entreprise. \nRejoignez-nous pour cette cinquième édition du challenge inter-entreprises du Pays d’Apt Luberon et inscrivez votre équipe dès maintenant ! \n Places limitées\n Informations à capluberon@paysapt-luberon.fr ou au 07 85 06 97 66\n Inscriptions https://www.cap-luberon.fr/wp-content/uploads/2026/02/2026Formulaire-dinscription-challenge-inter-entreprises.pdf\n 
URL:https://www.cap-luberon.fr/evenement/challenge-inter-entreprises-5eme-edition/
LOCATION:Parc de loisirs du Plan d’Eau\, Chemin de la Boucheyronne\, Apt\, 84400\, France
ATTACH;FMTTYPE=image/png:https://www.cap-luberon.fr/wp-content/uploads/2026/02/Affiche-challenge-inter-entreprise-2026.png
END:VEVENT
END:VCALENDAR