BEGIN:VCALENDAR
VERSION:2.0
PRODID:-//Cap Luberon - ECPv6.9.0//NONSGML v1.0//EN
CALSCALE:GREGORIAN
METHOD:PUBLISH
X-WR-CALNAME:Cap Luberon
X-ORIGINAL-URL:https://www.cap-luberon.fr
X-WR-CALDESC:Évènements pour Cap Luberon
REFRESH-INTERVAL;VALUE=DURATION:PT1H
X-Robots-Tag:noindex
X-PUBLISHED-TTL:PT1H
BEGIN:VTIMEZONE
TZID:Europe/Paris
BEGIN:DAYLIGHT
TZOFFSETFROM:+0100
TZOFFSETTO:+0200
TZNAME:CEST
DTSTART:20250330T010000
END:DAYLIGHT
BEGIN:STANDARD
TZOFFSETFROM:+0200
TZOFFSETTO:+0100
TZNAME:CET
DTSTART:20251026T010000
END:STANDARD
END:VTIMEZONE
BEGIN:VEVENT
DTSTART;TZID=Europe/Paris:20251209T180000
DTEND;TZID=Europe/Paris:20251209T200000
DTSTAMP:20260419T183708
CREATED:20251021T075128Z
LAST-MODIFIED:20251118T103519Z
UID:5135-1765303200-1765310400@www.cap-luberon.fr
SUMMARY:Afterwork transmission d'entreprise
DESCRIPTION:La transmission d’entreprise est une étape clé dans la vie d’un dirigeant. C’est aussi un véritable défi pour de nombreuses TPE artisanales et commerciales.\n\n\n\nSur le territoire du Pays d’Apt Luberon\, 32 % des dirigeants artisanaux ont 55 ans et plus : autant d’entreprises concernées\, à court ou moyen terme\, par une transmission d’entreprise ou une reprise. Dans un second temps\, le développement des très petites entreprises (TPE) représente des enjeux économiques certains pour la France qui sont créatrices d’emplois\, source de développement local et d’aménagement du territoire\, synonyme d’un service de proximité et de qualité. \nLa transmission d’entreprise est donc un acte de gestion important dans la vie d’une entreprise qui reste néanmoins une action complexe pouvant déboucher sur de nombreux problèmes si elle est mal préparée. \n\nPour accompagner au mieux les chefs d’entreprise dans cette démarche complexe\, la CCI de Vaucluse\, la CMA Provence-Alpes-Côte d’Azur et la Communauté de Communes du Pays d’Apt Luberon unissent leurs forces et vous invitent à un afterwork dédié à la transmission d’entreprise.\n\n\n\nAu programme :\n\n\n\nLes étapes clés pour préparer la transmission de votre entreprise\nLes méthodes d’évaluation du prix de vente\nLes incidences fiscales et juridiques à anticiper\nLes dispositifs d’accompagnement existants\n\n\n\n\n Intervention de Christophe THERY et Loïc BOUZIGUES pour un échange dynamique et concret\n\n\nÉvénement gratuit – sur inscription https://forms.gle/YCAHYrABwWJScnCn6
URL:https://www.cap-luberon.fr/evenement/afterwork-transmission-dentreprise/
LOCATION:Cap Luberon\, 472 Traverse de Roumanille\, Apt\, 84400\, France
CATEGORIES:Afterwork
ATTACH;FMTTYPE=image/png:https://www.cap-luberon.fr/wp-content/uploads/2025/10/Affiche_afterwork_Reprise_transmission-1.png
END:VEVENT
END:VCALENDAR