BEGIN:VCALENDAR
VERSION:2.0
PRODID:-//Cap Luberon - ECPv6.9.0//NONSGML v1.0//EN
CALSCALE:GREGORIAN
METHOD:PUBLISH
X-ORIGINAL-URL:https://www.cap-luberon.fr
X-WR-CALDESC:Évènements pour Cap Luberon
REFRESH-INTERVAL;VALUE=DURATION:PT1H
X-Robots-Tag:noindex
X-PUBLISHED-TTL:PT1H
BEGIN:VTIMEZONE
TZID:Europe/Paris
BEGIN:DAYLIGHT
TZOFFSETFROM:+0100
TZOFFSETTO:+0200
TZNAME:CEST
DTSTART:20250330T010000
END:DAYLIGHT
BEGIN:STANDARD
TZOFFSETFROM:+0200
TZOFFSETTO:+0100
TZNAME:CET
DTSTART:20251026T010000
END:STANDARD
END:VTIMEZONE
BEGIN:VEVENT
DTSTART;TZID=Europe/Paris:20250613T130000
DTEND;TZID=Europe/Paris:20250613T170000
DTSTAMP:20260419T171517
CREATED:20250210T131923Z
LAST-MODIFIED:20250210T131923Z
UID:4947-1749819600-1749834000@www.cap-luberon.fr
SUMMARY:Challenge inter-entreprises du Pays d'Apt Luberon - 4ème édition
DESCRIPTION:Le Challenge inter-entreprises du Pays d’Apt Luberon revient pour une quatrième édition pleine de défis ! \nAprès le succès retentissant  des trois premières éditions\, le Challenge inter-entreprises du Pays d’Apt Luberon est de retour pour une nouvelle aventure sportive et conviviale ! Chaque année\, plus de 200 participants issus de 18 entreprises locales s’affrontent dans une série d’épreuves palpitantes. \nUn événement fédérateur et dynamique\nAu-delà de la compétition\, cet événement est avant tout une formidable occasion de renforcer la cohésion au sein des entreprises du territoire. Il permet aux salariés de se retrouver dans un cadre différent\, de stimuler l’esprit d’équipe et de développer leur réseau professionnel tout en partageant un moment inoubliable. Entre convivialité\, dépassement de soi et échanges\, ce challenge est une belle opportunité de promouvoir une image positive et dynamique de son entreprise. \nUn thème inédit pour cette quatrième édition\nPour cette nouvelle édition\, nous avons concocté un programme encore plus excitant en partenariat avec KOH LANT’APT  et SANCHEZ PADELS LUBERON pour tester l’endurance\, la coordination et l’esprit d’équipe des participants. \nComment participer ?\nEntreprises\, indépendants\, vous souhaitez relever le défi ? Rien de plus simple ! Constituez une équipe de 8 salariés ou formez une équipe avec plusieurs indépendants. Préparez-vous à une journée mémorable placée sous le signe du sport et de la convivialité ! \nNe manquez pas cette occasion unique de vous dépasser et de partager une expérience collective enrichissante. \nRejoignez-nous pour cette quatrième édition du challenge inter-entreprises du Pays d’Apt Luberon et inscrivez votre équipe dès maintenant ! \n Places limitées\n Informations à capluberon@paysapt-luberon.fr ou au 07 85 06 97 66\n Inscriptions https://www.cap-luberon.fr/wp-content/uploads/2025/02/Formulaire-dinscription-challenge-inter-entreprises.pdf
URL:https://www.cap-luberon.fr/evenement/challenge-inter-entreprises-du-pays-dapt-luberon-4eme-edition/
LOCATION:Parc de loisirs du Plan d’Eau\, Chemin de la Boucheyronne\, Apt\, 84400\, France
ATTACH;FMTTYPE=image/png:https://www.cap-luberon.fr/wp-content/uploads/2025/02/Affiche-challenge-inter-entreprise-2025.png
END:VEVENT
END:VCALENDAR