BEGIN:VCALENDAR
VERSION:2.0
PRODID:-//Cap Luberon - ECPv6.9.0//NONSGML v1.0//EN
CALSCALE:GREGORIAN
METHOD:PUBLISH
X-ORIGINAL-URL:https://www.cap-luberon.fr
X-WR-CALDESC:Évènements pour Cap Luberon
REFRESH-INTERVAL;VALUE=DURATION:PT1H
X-Robots-Tag:noindex
X-PUBLISHED-TTL:PT1H
BEGIN:VTIMEZONE
TZID:Europe/Paris
BEGIN:DAYLIGHT
TZOFFSETFROM:+0100
TZOFFSETTO:+0200
TZNAME:CEST
DTSTART:20250330T010000
END:DAYLIGHT
BEGIN:STANDARD
TZOFFSETFROM:+0200
TZOFFSETTO:+0100
TZNAME:CET
DTSTART:20251026T010000
END:STANDARD
END:VTIMEZONE
BEGIN:VEVENT
DTSTART;TZID=Europe/Paris:20250417T090000
DTEND;TZID=Europe/Paris:20250417T103000
DTSTAMP:20260419T201948
CREATED:20250407T130741Z
LAST-MODIFIED:20250407T130741Z
UID:4965-1744880400-1744885800@www.cap-luberon.fr
SUMMARY:CAFE’CAP – La cryptomonnaie pour booster son activité
DESCRIPTION:Vous êtes entrepreneur\, commerçant\, indépendant ou dirigeant d’une PME et vous vous interrogez sur l’intérêt de la cryptomonnaie pour votre activité ? \nParticipez au prochain Café Cap\, S’initier à la cryptomonnaie pour booster son activité\, organisé en partenariat avec Initiative Terres de Vaucluse le jeudi 17 avril à 9h à Cap Luberon (472 traverse de Roumanille\, Apt)\, pour découvrir comment la cryptomonnaie peut devenir un véritable levier de gestion\, d’optimisation et d’innovation pour votre entreprise. \nThéophile Gourio\, analyste financier\, conseiller en investissements et cofondateur de BambooFin\, animera cet échange. Il partagera une approche accessible et concrète pour mieux comprendre :\n– Les fondamentaux de la cryptomonnaie et de la blockchain\n– Les usages professionnels adaptés aux TPE-PME\n– Les outils simples pour sécuriser ses données et optimiser sa stratégie financière \nCe temps d’information est ouvert à tous les professionnels du territoire\, curieux de découvrir de nouvelles solutions pour anticiper les enjeux économiques de demain. \nÉvénement gratuit\, inscription via ce lien jusqu’au 14 avril : https://lnkd.in/ddSV-dpH
URL:https://www.cap-luberon.fr/evenement/cafecap-la-cryptomonnaie-pour-booster-son-activite/
LOCATION:Cap Luberon\, 472 Traverse de Roumanille\, Apt\, 84400\, France
ATTACH;FMTTYPE=image/jpeg:https://www.cap-luberon.fr/wp-content/uploads/2025/04/CAFE-CAP-Cryptomonnaies-v2.jpg
END:VEVENT
END:VCALENDAR